BEGIN:VCALENDAR
VERSION:2.0
PRODID:-//jEvents 2.0 for Joomla//EN
CALSCALE:GREGORIAN
METHOD:PUBLISH
BEGIN:VEVENT
UID:bfc0ca0ea44b2ef7ee85b39080153eac
CATEGORIES:Sport
CREATED:20240628T115111
SUMMARY:1. Bundesliga Damen vs. Bredeney
DESCRIPTION:<p>11 Uhr: SCC vs. Bredeney Essen</p>
DTSTAMP:20260425T115501
DTSTART:20260501T090000
DTEND:20260501T180000
SEQUENCE:0
TRANSP:OPAQUE
END:VEVENT
END:VCALENDAR